BEGIN:VCALENDAR
VERSION:2.0
PRODID:icalendar-ruby
CALSCALE:GREGORIAN
METHOD:PUBLISH
BEGIN:VEVENT
DTSTAMP:20260424T143117Z
UID:22-281772@crestview.org
DTSTART:20260507T160000Z
DTEND:20260508T230000Z
CLASS:PUBLIC
CREATED:20260423T081615
DESCRIPTION:Don’t miss our Youth Garage Sale Fundraiser—two days packed
  with awesome finds and great deals\, all for an incredible cause! Come sh
 op\, support\, and help send our kids and teens to church camp while scori
 ng some amazing treasures!
LAST-MODIFIED:20260423T081615
LOCATION:Crestview Baptist Church
SUMMARY:Youth Garage Same Fundraiser
URL;VALUE=URI:https://crestview.org/events/youth-garage-same-fundraiser/202
 6-05-07
ATTACH;FILENAME=Garage-Sale.png;FMTTYPE=image/png:https://dq5pwpg1q8ru0.clo
 udfront.net/2026/04/23/15/16/14/766d9a4a-9205-47cf-8ca9-85911bd71c4a/Garag
 e-Sale.png
END:VEVENT
END:VCALENDAR
